BEGIN:VCALENDAR
VERSION:2.0
PRODID:-//Repair Café - ECPv6.15.17//NONSGML v1.0//EN
CALSCALE:GREGORIAN
METHOD:PUBLISH
X-ORIGINAL-URL:https://www.repaircafefrankfurt.de
X-WR-CALDESC:Veranstaltungen für Repair Café
REFRESH-INTERVAL;VALUE=DURATION:PT1H
X-Robots-Tag:noindex
X-PUBLISHED-TTL:PT1H
BEGIN:VTIMEZONE
TZID:Europe/Berlin
BEGIN:DAYLIGHT
TZOFFSETFROM:+0100
TZOFFSETTO:+0200
TZNAME:CEST
DTSTART:20220327T010000
END:DAYLIGHT
BEGIN:STANDARD
TZOFFSETFROM:+0200
TZOFFSETTO:+0100
TZNAME:CET
DTSTART:20221030T010000
END:STANDARD
BEGIN:DAYLIGHT
TZOFFSETFROM:+0100
TZOFFSETTO:+0200
TZNAME:CEST
DTSTART:20230326T010000
END:DAYLIGHT
BEGIN:STANDARD
TZOFFSETFROM:+0200
TZOFFSETTO:+0100
TZNAME:CET
DTSTART:20231029T010000
END:STANDARD
BEGIN:DAYLIGHT
TZOFFSETFROM:+0100
TZOFFSETTO:+0200
TZNAME:CEST
DTSTART:20240331T010000
END:DAYLIGHT
BEGIN:STANDARD
TZOFFSETFROM:+0200
TZOFFSETTO:+0100
TZNAME:CET
DTSTART:20241027T010000
END:STANDARD
END:VTIMEZONE
BEGIN:VEVENT
DTSTART;TZID=Europe/Berlin:20231028T140000
DTEND;TZID=Europe/Berlin:20231028T170000
DTSTAMP:20260420T215310
CREATED:20230406T125123Z
LAST-MODIFIED:20230406T125123Z
UID:2165-1698501600-1698512400@www.repaircafefrankfurt.de
SUMMARY:RepairCafé Goldstein
DESCRIPTION:jeweils 14 – 17 Uhr. Bitte mit Anmeldung.\nBegegnungs- und Servicezentrum Hofgut Goldstein\nTränkweg 32\n60529 Frankfurt\nTelefon: 069 – 299 807 2223\nemail: carmen.simon@frankfurter-verband.de
URL:https://www.repaircafefrankfurt.de/event/repaircafe-goldstein-7/
LOCATION:Reparaturcafé im Begegnungs- und Servicezentrum Hofgut Goldstein\, Tränkweg 32\, Frankfurt am Main\, Hessen\, 60529\, Deutschland
END:VEVENT
BEGIN:VEVENT
DTSTART;TZID=Europe/Berlin:20231028T140000
DTEND;TZID=Europe/Berlin:20231028T170000
DTSTAMP:20260420T215310
CREATED:20231027T092925Z
LAST-MODIFIED:20231027T093154Z
UID:2258-1698501600-1698512400@www.repaircafefrankfurt.de
SUMMARY:Reparatur Café Gutleut
DESCRIPTION:Das Reparatur-Cafe Gutleut freut sich über Reparaturanfragen aus den Bereichen Textil\, Fahrräder & Mobilität\, Mobiltelefon & Computer inkl. Zubehör\, Elektrokleingeräte u.v.m. eigentlich versuchen wir uns an ziemlich vielem\, oder stehen den Besucher:innen mit Rat und Werkzeug bei der Reparatur zur Verfügung. Sie können auch gerne vorher anfragen\, ob wir bei einer Reparatur Aussicht auf Erfolg sehen: info@reparaturcafe-gutleut.de \nWir freuen uns aber auch sehr über Menschen\, die einfach auf einen Tee oder Kaffee in der Zeit von 14:00 bis 17:00 vorbeischauen! \nWo: Kaffeestube Gutleut\, Gutleutstraße 131\, 60327 Frankfurt am Main \nBeginn: 28.10.2023 von 14:00 – 17:00 (letzte Reparatur-Annahme  um 16:15) \nKostenlos\, ohne Voranmeldung
URL:https://www.repaircafefrankfurt.de/event/reparatur-cafe-gutleut-9/
LOCATION:Kaffeestube Gutleut\, Gutleutstr. 131\, Gutleutstr. 131\, Frankfurt\, Deutschland
ORGANIZER;CN="Nachbarschaftsb%C3%BCro Gutleut":MAILTO:gutleut@frankfurt-sozialestadt.de
END:VEVENT
END:VCALENDAR