BEGIN:VCALENDAR
VERSION:2.0
PRODID:-//Repair Café - ECPv6.15.17//NONSGML v1.0//EN
CALSCALE:GREGORIAN
METHOD:PUBLISH
X-WR-CALNAME:Repair Café
X-ORIGINAL-URL:https://www.repaircafefrankfurt.de
X-WR-CALDESC:Veranstaltungen für Repair Café
REFRESH-INTERVAL;VALUE=DURATION:PT1H
X-Robots-Tag:noindex
X-PUBLISHED-TTL:PT1H
BEGIN:VTIMEZONE
TZID:Europe/Berlin
BEGIN:DAYLIGHT
TZOFFSETFROM:+0100
TZOFFSETTO:+0200
TZNAME:CEST
DTSTART:20220327T010000
END:DAYLIGHT
BEGIN:STANDARD
TZOFFSETFROM:+0200
TZOFFSETTO:+0100
TZNAME:CET
DTSTART:20221030T010000
END:STANDARD
BEGIN:DAYLIGHT
TZOFFSETFROM:+0100
TZOFFSETTO:+0200
TZNAME:CEST
DTSTART:20230326T010000
END:DAYLIGHT
BEGIN:STANDARD
TZOFFSETFROM:+0200
TZOFFSETTO:+0100
TZNAME:CET
DTSTART:20231029T010000
END:STANDARD
BEGIN:DAYLIGHT
TZOFFSETFROM:+0100
TZOFFSETTO:+0200
TZNAME:CEST
DTSTART:20240331T010000
END:DAYLIGHT
BEGIN:STANDARD
TZOFFSETFROM:+0200
TZOFFSETTO:+0100
TZNAME:CET
DTSTART:20241027T010000
END:STANDARD
END:VTIMEZONE
BEGIN:VEVENT
DTSTART;TZID=Europe/Berlin:20231014T100000
DTEND;TZID=Europe/Berlin:20231014T120000
DTSTAMP:20260420T212729
CREATED:20230307T133206Z
LAST-MODIFIED:20230307T133206Z
UID:2116-1697277600-1697284800@www.repaircafefrankfurt.de
SUMMARY:Repair Café im NBZ Ostend (Mehrgenerationenhaus)
DESCRIPTION:Unser Repair Café im Nachbarschaftszentrum Ostend findet an jedem 2. Samstag im Monat von 10 – 12 Uhr statt.
URL:https://www.repaircafefrankfurt.de/event/repair-cafe-im-nbz-ostend-mehrgenerationenhaus-8/
LOCATION:NBZ Ostend (Nachbarschaftszentrum)\, Waldschmidtstraße 39\,  60316 Frankfurt am Main\, Deutschland
END:VEVENT
BEGIN:VEVENT
DTSTART;TZID=Europe/Berlin:20231014T150000
DTEND;TZID=Europe/Berlin:20231014T173000
DTSTAMP:20260420T212729
CREATED:20221020T114815Z
LAST-MODIFIED:20230808T103057Z
UID:1850-1697295600-1697304600@www.repaircafefrankfurt.de
SUMMARY:Repaircafé Rödelheim
DESCRIPTION:Zur Teilnahme am Repaircafé ist eine Anmeldung erforderlich. \nWeitere Infos und Anmeldung unter: repaircafe-roedelheim@gmx.de \nSie können auch direkt eine Reparaturanmeldung  in Internet unter: http://reelife.info/rcroedelheim durchführen.
URL:https://www.repaircafefrankfurt.de/event/repaircafe-roedelheim-23/
LOCATION:Auguste-Oberwinter-Haus\, Burgfriedenstraße 7\, Rödelheim\, Burgfriedenstraße 7\, Frankfurt\, Deutschland
ORGANIZER;CN="Reparatur-Initiative R%C3%B6delheim":MAILTO:repaircafe-roedelheim@gmx.de
END:VEVENT
END:VCALENDAR